BEGIN:VCALENDAR
VERSION:2.0
PRODID:-//TC BW 23 Ahlen - ECPv4.6.4//NONSGML v1.0//EN
CALSCALE:GREGORIAN
METHOD:PUBLISH
X-WR-CALNAME:TC BW 23 Ahlen
X-ORIGINAL-URL:https://www.tcbw23ahlen.de
X-WR-CALDESC:Events for TC BW 23 Ahlen
BEGIN:VEVENT
DTSTART;TZID=Europe/Berlin:20261128T180000
DTEND;TZID=Europe/Berlin:20261128T230000
DTSTAMP:20260421T114252
CREATED:20260120T094308Z
LAST-MODIFIED:20260120T094308Z
UID:6102-1795888800-1795906800@www.tcbw23ahlen.de
SUMMARY:Winterzauber
DESCRIPTION:\n\n\n\n\n\n\n\n\n \n\n\n\n\n\n\n\n\n\n \n\n \n\n\n\n\n\n\n\n\n\n\n\n \n \n\n
URL:https://www.tcbw23ahlen.de/?tribe_events=winterzauber-2
LOCATION:Am Stadtwald 7\, Ahlen\, Nordrhein-Westfalen\, 59227\, Deutschland
CATEGORIES:Erwachsene,Fest für alle ab 16 Jahren,Jugend
END:VEVENT
END:VCALENDAR