BEGIN:VCALENDAR
VERSION:2.0
PRODID:-//TC BW 23 Ahlen - ECPv4.6.4//NONSGML v1.0//EN
CALSCALE:GREGORIAN
METHOD:PUBLISH
X-WR-CALNAME:TC BW 23 Ahlen
X-ORIGINAL-URL:https://www.tcbw23ahlen.de
X-WR-CALDESC:Events for TC BW 23 Ahlen
BEGIN:VEVENT
DTSTART;TZID=Europe/Berlin:20200229T170000
DTEND;TZID=Europe/Berlin:20200229T233000
DTSTAMP:20260421T162350
CREATED:20191229T160121Z
LAST-MODIFIED:20200120T155638Z
UID:3433-1582995600-1583019000@www.tcbw23ahlen.de
SUMMARY:Wintergames - Eisstockschieß-Wettbewerb
DESCRIPTION:\n\n\n\n\n\n\n\n\n \n\n\n\n\n\n\n\n\n\n \n\n \n\n\n\n\n\n\n\n\n\n\n\n\n\n\n\n\n\n\n\n\n \n\nWinterspaß für Teams von 4-6 Personen \nWinterliche Getränke und heiße Verköstigung \nStartgeld: 20\,- €/Team \nStart: Samstag\, 29.02.2020 ab 17 Uhr !!!\n \nAnmeldung unter: info@tcbw23ahlen.de \n \n\n \n \n\n
URL:https://www.tcbw23ahlen.de/?tribe_events=wintergames-eisstockschiess-wettbewerb
LOCATION:Am Stadtwald 7\, Ahlen\, Nordrhein-Westfalen\, 59227\, Deutschland
END:VEVENT
END:VCALENDAR