BEGIN:VCALENDAR
VERSION:2.0
PRODID:-//TC BW 23 Ahlen - ECPv4.6.4//NONSGML v1.0//EN
CALSCALE:GREGORIAN
METHOD:PUBLISH
X-WR-CALNAME:TC BW 23 Ahlen
X-ORIGINAL-URL:https://www.tcbw23ahlen.de
X-WR-CALDESC:Events for TC BW 23 Ahlen
BEGIN:VEVENT
DTSTART;TZID=Europe/Berlin:20200215T143000
DTEND;TZID=Europe/Berlin:20200215T190000
DTSTAMP:20260421T162511
CREATED:20191029T185100Z
LAST-MODIFIED:20191029T185100Z
UID:3397-1581777000-1581793200@www.tcbw23ahlen.de
SUMMARY:RLL: VfT Schwarz-Weiß Marl - 1. Damen 40
DESCRIPTION:\n\n\n\n\n\n\n\n\n \n\n\n\n\n\n\n\n\n\n \n\n \n\n\n\n\n\n\n\n\n\n\n\n \n \n\n
URL:https://www.tcbw23ahlen.de/?tribe_events=rll-vft-schwarz-weiss-marl-1-damen-40
CATEGORIES:Mannschaftsspiel
END:VEVENT
END:VCALENDAR