BEGIN:VCALENDAR
VERSION:2.0
PRODID:-//TC BW 23 Ahlen - ECPv4.6.4//NONSGML v1.0//EN
CALSCALE:GREGORIAN
METHOD:PUBLISH
X-WR-CALNAME:TC BW 23 Ahlen
X-ORIGINAL-URL:https://www.tcbw23ahlen.de
X-WR-CALDESC:Events for TC BW 23 Ahlen
BEGIN:VEVENT
DTSTART;TZID=Europe/Berlin:20190602T100000
DTEND;TZID=Europe/Berlin:20190602T170000
DTSTAMP:20260422T032645
CREATED:20190429T161524Z
LAST-MODIFIED:20190429T161524Z
UID:2788-1559469600-1559494800@www.tcbw23ahlen.de
SUMMARY:RLL: TC BW Rhynern I - Damen 40 I
DESCRIPTION:\n\n\n\n\n\n\n\n\n \n\n\n\n\n\n\n\n\n\n \n\n \n\n\n\n\n\n\n\n\n\n\n\n \n \n\n
URL:https://www.tcbw23ahlen.de/?tribe_events=rll-tc-bw-rhynern-i-damen-40-i
CATEGORIES:Mannschaftsspiel
END:VEVENT
END:VCALENDAR