BEGIN:VCALENDAR
VERSION:2.0
PRODID:-//TC BW 23 Ahlen - ECPv4.6.4//NONSGML v1.0//EN
CALSCALE:GREGORIAN
METHOD:PUBLISH
X-WR-CALNAME:TC BW 23 Ahlen
X-ORIGINAL-URL:https://www.tcbw23ahlen.de
X-WR-CALDESC:Events for TC BW 23 Ahlen
BEGIN:VEVENT
DTSTART;TZID=Europe/Berlin:20191117T130000
DTEND;TZID=Europe/Berlin:20191117T170000
DTSTAMP:20260421T162354
CREATED:20191029T184051Z
LAST-MODIFIED:20191029T184051Z
UID:3378-1573995600-1574010000@www.tcbw23ahlen.de
SUMMARY:RLL: TC Bommern - 1. Damen 40
DESCRIPTION:\n\n\n\n\n\n\n\n\n \n\n\n\n\n\n\n\n\n\n \n\n \n\n\n\n\n\n\n\n\n\n\n\n \n \n\n
URL:https://www.tcbw23ahlen.de/?tribe_events=rll-tc-bommern-1-damen-40
CATEGORIES:Mannschaftsspiel
END:VEVENT
END:VCALENDAR