BEGIN:VCALENDAR
VERSION:2.0
PRODID:-//TC BW 23 Ahlen - ECPv4.6.4//NONSGML v1.0//EN
CALSCALE:GREGORIAN
METHOD:PUBLISH
X-WR-CALNAME:TC BW 23 Ahlen
X-ORIGINAL-URL:https://www.tcbw23ahlen.de
X-WR-CALDESC:Events for TC BW 23 Ahlen
BEGIN:VEVENT
DTSTART;TZID=Europe/Berlin:20190519T100000
DTEND;TZID=Europe/Berlin:20190519T160000
DTSTAMP:20260422T070339
CREATED:20190429T154330Z
LAST-MODIFIED:20190429T154330Z
UID:2769-1558260000-1558281600@www.tcbw23ahlen.de
SUMMARY:RLL: Damen 40 I - Skiclub Werl I
DESCRIPTION:\n\n\n\n\n\n\n\n\n \n\n\n\n\n\n\n\n\n\n \n\n \n\n\n\n\n\n\n\n\n\n\n\n \n \n\n
URL:https://www.tcbw23ahlen.de/?tribe_events=rll-damen-40-i-skiclub-werl-i
LOCATION:Am Stadtwald 7\, Ahlen\, Nordrhein-Westfalen\, 59227\, Deutschland
CATEGORIES:Mannschaftsspiel
END:VEVENT
END:VCALENDAR