BEGIN:VCALENDAR
VERSION:2.0
PRODID:-//TC BW 23 Ahlen - ECPv4.6.4//NONSGML v1.0//EN
CALSCALE:GREGORIAN
METHOD:PUBLISH
X-WR-CALNAME:TC BW 23 Ahlen
X-ORIGINAL-URL:https://www.tcbw23ahlen.de
X-WR-CALDESC:Events for TC BW 23 Ahlen
BEGIN:VEVENT
DTSTART;TZID=Europe/Berlin:20191207T190000
DTEND;TZID=Europe/Berlin:20191208T020000
DTSTAMP:20260421T162236
CREATED:20191029T190535Z
LAST-MODIFIED:20191029T190535Z
UID:3425-1575745200-1575770400@www.tcbw23ahlen.de
SUMMARY:Nikolausfest im Geisthövel
DESCRIPTION:\n\n\n\n\n\n\n\n\n \n\n\n\n\n\n\n\n\n\n \n\n \n\n\n\n\n\n\n\n\n\n\n\n \n \n\n
URL:https://www.tcbw23ahlen.de/?tribe_events=nikolausfest-im-geisthoevel
LOCATION:Freiheit 2\, Ahlen\, 59227\, Deutschland
END:VEVENT
END:VCALENDAR