BEGIN:VCALENDAR
VERSION:2.0
PRODID:-//TC BW 23 Ahlen - ECPv4.6.4//NONSGML v1.0//EN
CALSCALE:GREGORIAN
METHOD:PUBLISH
X-WR-CALNAME:TC BW 23 Ahlen
X-ORIGINAL-URL:https://www.tcbw23ahlen.de
X-WR-CALDESC:Events for TC BW 23 Ahlen
BEGIN:VEVENT
DTSTART;TZID=Europe/Berlin:20201205T200000
DTEND;TZID=Europe/Berlin:20201205T233000
DTSTAMP:20260421T174328
CREATED:20200118T141723Z
LAST-MODIFIED:20201025T193056Z
UID:3460-1607198400-1607211000@www.tcbw23ahlen.de
SUMMARY:Nikolausfest 2020 fällt in diesem Jahr aus
DESCRIPTION:\n\n\n\n\n\n\n\n\n \n\n\n\n\n\n\n\n\n\n \n\n \n\n\n\n\n\n\n\n\n\n\n\nWegen der Pandemie müssen wir leider das Nikolausfest absagen.\nWir hoffen\, dass wir im nächsten Jahr wieder feiern können. \n\n \n \n\n
URL:https://www.tcbw23ahlen.de/?tribe_events=nikolausfest-2020
LOCATION:Freiheit 2\, Ahlen\, 59227\, Deutschland
END:VEVENT
END:VCALENDAR