BEGIN:VCALENDAR
VERSION:2.0
PRODID:-//TC BW 23 Ahlen - ECPv4.6.4//NONSGML v1.0//EN
CALSCALE:GREGORIAN
METHOD:PUBLISH
X-WR-CALNAME:TC BW 23 Ahlen
X-ORIGINAL-URL:https://www.tcbw23ahlen.de
X-WR-CALDESC:Events for TC BW 23 Ahlen
BEGIN:VEVENT
DTSTART;TZID=Europe/Berlin:20200103T183000
DTEND;TZID=Europe/Berlin:20200103T230000
DTSTAMP:20260421T144051
CREATED:20191229T155658Z
LAST-MODIFIED:20191229T155658Z
UID:3430-1578076200-1578092400@www.tcbw23ahlen.de
SUMMARY:Neujahrstennis
DESCRIPTION:\n\n\n\n\n\n\n\n\n \n\n\n\n\n\n\n\n\n\n \n\n \n\n\n\n\n\n\n\n\n\n\n\n\n\n\n\n\n\n\n\n\n\n \n\nNeujahrstennis für alle Mitglieder \nBegrüßt mit uns das neue Jahrzehnt. \nFür das leibliche Wohl sorgt sie Clubgastronomie. \nStart: Freitag\, 03.01.2010 um 18.30 Uhr. \n\n \n \n\n
URL:https://www.tcbw23ahlen.de/?tribe_events=neujahrstennis
LOCATION:Am Stadtwald 7\, Ahlen\, Nordrhein-Westfalen\, 59227\, Deutschland
CATEGORIES:Erwachsene,Fest für alle ab 16 Jahren,Jugend,Vereinstermin
ATTACH;FMTTYPE=image/jpeg:https://www.tcbw23ahlen.de/wp-content/uploads/2019/12/Neujahrstennis_2020.jpg
END:VEVENT
END:VCALENDAR