BEGIN:VCALENDAR
VERSION:2.0
PRODID:-//TC BW 23 Ahlen - ECPv4.6.4//NONSGML v1.0//EN
CALSCALE:GREGORIAN
METHOD:PUBLISH
X-WR-CALNAME:TC BW 23 Ahlen
X-ORIGINAL-URL:https://www.tcbw23ahlen.de
X-WR-CALDESC:Events for TC BW 23 Ahlen
BEGIN:VEVENT
DTSTART;VALUE=DATE:20260523
DTEND;VALUE=DATE:20260525
DTSTAMP:20260425T102715
CREATED:20260120T094048Z
LAST-MODIFIED:20260120T094048Z
UID:6096-1779494400-1779667199@www.tcbw23ahlen.de
SUMMARY:Maisel´s Cup - Erlebnis statt Ergebnis
DESCRIPTION:\n\n\n\n\n\n\n\n\n \n\n\n\n\n\n\n\n\n\n \n\n \n\n\n\n\n\n\n\n\n\n\n\nStart: \nSamstag: 13:00 h \nSonntag: 11:00 h \n\n \n \n\n
URL:https://www.tcbw23ahlen.de/?tribe_events=maisels-cup-erlebnis-statt-ergebnis-2
LOCATION:Am Stadtwald 7\, Ahlen\, Nordrhein-Westfalen\, 59227\, Deutschland
CATEGORIES:Erwachsene,Fest für alle ab 16 Jahren,Vereinstermin
END:VEVENT
END:VCALENDAR