BEGIN:VCALENDAR
VERSION:2.0
PRODID:-//TC BW 23 Ahlen - ECPv4.6.4//NONSGML v1.0//EN
CALSCALE:GREGORIAN
METHOD:PUBLISH
X-WR-CALNAME:TC BW 23 Ahlen
X-ORIGINAL-URL:https://www.tcbw23ahlen.de
X-WR-CALDESC:Events for TC BW 23 Ahlen
BEGIN:VEVENT
DTSTART;TZID=Europe/Berlin:20190622T130000
DTEND;TZID=Europe/Berlin:20190622T170000
DTSTAMP:20260422T015132
CREATED:20190429T162715Z
LAST-MODIFIED:20190828T160333Z
UID:2818-1561208400-1561222800@www.tcbw23ahlen.de
SUMMARY:KL: TV Speckbrett Hemmerde I - Herren 60 I
DESCRIPTION:\n\n\n\n\n\n\n\n\n \n\n\n\n\n\n\n\n\n\n \n\n \n\n\n\n\n\n\n\n\n\n\n\n \n \n\n
URL:https://www.tcbw23ahlen.de/?tribe_events=kl-tv-speckbrett-hemmerde-i-herren-60-i
CATEGORIES:Mannschaftsspiel
END:VEVENT
END:VCALENDAR