BEGIN:VCALENDAR
VERSION:2.0
PRODID:-//TC BW 23 Ahlen - ECPv4.6.4//NONSGML v1.0//EN
CALSCALE:GREGORIAN
METHOD:PUBLISH
X-WR-CALNAME:TC BW 23 Ahlen
X-ORIGINAL-URL:https://www.tcbw23ahlen.de
X-WR-CALDESC:Events for TC BW 23 Ahlen
BEGIN:VEVENT
DTSTART;TZID=Europe/Berlin:20191208T100000
DTEND;TZID=Europe/Berlin:20191208T160000
DTSTAMP:20260421T190006
CREATED:20191029T184448Z
LAST-MODIFIED:20191029T184448Z
UID:3386-1575799200-1575820800@www.tcbw23ahlen.de
SUMMARY:KL. TuRa Bergkamen - 1. Herren
DESCRIPTION:\n\n\n\n\n\n\n\n\n \n\n\n\n\n\n\n\n\n\n \n\n \n\n\n\n\n\n\n\n\n\n\n\n \n \n\n
URL:https://www.tcbw23ahlen.de/?tribe_events=kl-tura-bergkamen-1-herren
CATEGORIES:Mannschaftsspiel
END:VEVENT
END:VCALENDAR