BEGIN:VCALENDAR
VERSION:2.0
PRODID:-//TC BW 23 Ahlen - ECPv4.6.4//NONSGML v1.0//EN
CALSCALE:GREGORIAN
METHOD:PUBLISH
X-WR-CALNAME:TC BW 23 Ahlen
X-ORIGINAL-URL:https://www.tcbw23ahlen.de
X-WR-CALDESC:Events for TC BW 23 Ahlen
BEGIN:VEVENT
DTSTART;TZID=Europe/Berlin:20200821T160000
DTEND;TZID=Europe/Berlin:20200821T200000
DTSTAMP:20260422T002141
CREATED:20200726T142538Z
LAST-MODIFIED:20200726T142538Z
UID:3783-1598025600-1598040000@www.tcbw23ahlen.de
SUMMARY:KL: TC Welver - 1. Junioren U 12
DESCRIPTION:\n\n\n\n\n\n\n\n\n \n\n\n\n\n\n\n\n\n\n \n\n \n\n\n\n\n\n\n\n\n\n\n\n \n \n\n
URL:https://www.tcbw23ahlen.de/?tribe_events=kl-tc-welver-1-junioren-u-12
CATEGORIES:Mannschaftsspiel
END:VEVENT
END:VCALENDAR