BEGIN:VCALENDAR
VERSION:2.0
PRODID:-//TC BW 23 Ahlen - ECPv4.6.4//NONSGML v1.0//EN
CALSCALE:GREGORIAN
METHOD:PUBLISH
X-WR-CALNAME:TC BW 23 Ahlen
X-ORIGINAL-URL:https://www.tcbw23ahlen.de
X-WR-CALDESC:Events for TC BW 23 Ahlen
BEGIN:VEVENT
DTSTART;TZID=Europe/Berlin:20191123T180000
DTEND;TZID=Europe/Berlin:20191123T220000
DTSTAMP:20260421T175440
CREATED:20191029T184301Z
LAST-MODIFIED:20191029T184301Z
UID:3382-1574532000-1574546400@www.tcbw23ahlen.de
SUMMARY:KL: TC Kamen-Methler - 1. Herren
DESCRIPTION:\n\n\n\n\n\n\n\n\n \n\n\n\n\n\n\n\n\n\n \n\n \n\n\n\n\n\n\n\n\n\n\n\n \n \n\n
URL:https://www.tcbw23ahlen.de/?tribe_events=kl-tc-kamen-methler-1-herren
CATEGORIES:Mannschaftsspiel
END:VEVENT
END:VCALENDAR