BEGIN:VCALENDAR
VERSION:2.0
PRODID:-//TC BW 23 Ahlen - ECPv4.6.4//NONSGML v1.0//EN
CALSCALE:GREGORIAN
METHOD:PUBLISH
X-WR-CALNAME:TC BW 23 Ahlen
X-ORIGINAL-URL:https://www.tcbw23ahlen.de
X-WR-CALDESC:Events for TC BW 23 Ahlen
BEGIN:VEVENT
DTSTART;TZID=Europe/Berlin:20190611T160000
DTEND;TZID=Europe/Berlin:20190611T210000
DTSTAMP:20260422T050207
CREATED:20190429T161732Z
LAST-MODIFIED:20190429T161732Z
UID:2792-1560268800-1560286800@www.tcbw23ahlen.de
SUMMARY:KL: TC BW Rhynern II - U18w II
DESCRIPTION:\n\n\n\n\n\n\n\n\n \n\n\n\n\n\n\n\n\n\n \n\n \n\n\n\n\n\n\n\n\n\n\n\n \n \n\n
URL:https://www.tcbw23ahlen.de/?tribe_events=kl-tc-bw-rhynern-ii-u18w-ii
CATEGORIES:Mannschaftsspiel
END:VEVENT
END:VCALENDAR