BEGIN:VCALENDAR
VERSION:2.0
PRODID:-//TC BW 23 Ahlen - ECPv4.6.4//NONSGML v1.0//EN
CALSCALE:GREGORIAN
METHOD:PUBLISH
X-WR-CALNAME:TC BW 23 Ahlen
X-ORIGINAL-URL:https://www.tcbw23ahlen.de
X-WR-CALDESC:Events for TC BW 23 Ahlen
BEGIN:VEVENT
DTSTART;TZID=Europe/Berlin:20200920T100000
DTEND;TZID=Europe/Berlin:20200920T170000
DTSTAMP:20260422T000818
CREATED:20200614T153020Z
LAST-MODIFIED:20200614T153020Z
UID:3650-1600596000-1600621200@www.tcbw23ahlen.de
SUMMARY:KL: TC Berghofen 1 - 1. Damen (4er)
DESCRIPTION:\n\n\n\n\n\n\n\n\n \n\n\n\n\n\n\n\n\n\n \n\n \n\n\n\n\n\n\n\n\n\n\n\n \n \n\n
URL:https://www.tcbw23ahlen.de/?tribe_events=kl-tc-berghofen-1-1-damen-4er
CATEGORIES:Mannschaftsspiel
END:VEVENT
END:VCALENDAR