BEGIN:VCALENDAR
VERSION:2.0
PRODID:-//TC BW 23 Ahlen - ECPv4.6.4//NONSGML v1.0//EN
CALSCALE:GREGORIAN
METHOD:PUBLISH
X-WR-CALNAME:TC BW 23 Ahlen
X-ORIGINAL-URL:https://www.tcbw23ahlen.de
X-WR-CALDESC:Events for TC BW 23 Ahlen
BEGIN:VEVENT
DTSTART;TZID=Europe/Berlin:20190629T130000
DTEND;TZID=Europe/Berlin:20190629T180000
DTSTAMP:20260422T045357
CREATED:20190429T163436Z
LAST-MODIFIED:20190429T163550Z
UID:2830-1561813200-1561831200@www.tcbw23ahlen.de
SUMMARY:KL: SuS Oberaden I - Herren 40 II
DESCRIPTION:\n\n\n\n\n\n\n\n\n \n\n\n\n\n\n\n\n\n\n \n\n \n\n\n\n\n\n\n\n\n\n\n\n \n \n\n
URL:https://www.tcbw23ahlen.de/?tribe_events=kl-sus-oberadeb-i-herren-40-ii
CATEGORIES:Mannschaftsspiel
END:VEVENT
END:VCALENDAR