BEGIN:VCALENDAR
VERSION:2.0
PRODID:-//TC BW 23 Ahlen - ECPv4.6.4//NONSGML v1.0//EN
CALSCALE:GREGORIAN
METHOD:PUBLISH
X-WR-CALNAME:TC BW 23 Ahlen
X-ORIGINAL-URL:https://www.tcbw23ahlen.de
X-WR-CALDESC:Events for TC BW 23 Ahlen
BEGIN:VEVENT
DTSTART;TZID=Europe/Berlin:20200628T100000
DTEND;TZID=Europe/Berlin:20200628T170000
DTSTAMP:20260421T222935
CREATED:20200614T144532Z
LAST-MODIFIED:20200614T150817Z
UID:3617-1593338400-1593363600@www.tcbw23ahlen.de
SUMMARY:KL: Soester TV 1 - 1. Herren
DESCRIPTION:\n\n\n\n\n\n\n\n\n \n\n\n\n\n\n\n\n\n\n \n\n \n\n\n\n\n\n\n\n\n\n\n\n \n \n\n
URL:https://www.tcbw23ahlen.de/?tribe_events=kl-soester-tv-1-1-herren
CATEGORIES:Mannschaftsspiel
END:VEVENT
END:VCALENDAR