BEGIN:VCALENDAR
VERSION:2.0
PRODID:-//TC BW 23 Ahlen - ECPv4.6.4//NONSGML v1.0//EN
CALSCALE:GREGORIAN
METHOD:PUBLISH
X-WR-CALNAME:TC BW 23 Ahlen
X-ORIGINAL-URL:https://www.tcbw23ahlen.de
X-WR-CALDESC:Events for TC BW 23 Ahlen
BEGIN:VEVENT
DTSTART;TZID=Europe/Berlin:20190831T130000
DTEND;TZID=Europe/Berlin:20190831T170000
DTSTAMP:20260422T045443
CREATED:20190828T152157Z
LAST-MODIFIED:20190828T153138Z
UID:3118-1567256400-1567270800@www.tcbw23ahlen.de
SUMMARY:KL: Lüner SV I - Herren 40 II
DESCRIPTION:\n\n\n\n\n\n\n\n\n \n\n\n\n\n\n\n\n\n\n \n\n \n\n\n\n\n\n\n\n\n\n\n\n \n \n\n
URL:https://www.tcbw23ahlen.de/?tribe_events=kl-luener-sv-i-herren-40-ii
CATEGORIES:Mannschaftsspiel
END:VEVENT
END:VCALENDAR