BEGIN:VCALENDAR
VERSION:2.0
PRODID:-//TC BW 23 Ahlen - ECPv4.6.4//NONSGML v1.0//EN
CALSCALE:GREGORIAN
METHOD:PUBLISH
X-WR-CALNAME:TC BW 23 Ahlen
X-ORIGINAL-URL:https://www.tcbw23ahlen.de
X-WR-CALDESC:Events for TC BW 23 Ahlen
BEGIN:VEVENT
DTSTART;TZID=Europe/Berlin:20190630T100000
DTEND;TZID=Europe/Berlin:20190630T150000
DTSTAMP:20260422T015057
CREATED:20190429T163639Z
LAST-MODIFIED:20190429T163639Z
UID:2833-1561888800-1561906800@www.tcbw23ahlen.de
SUMMARY:KL: Herren II - TuS Bad Sassendorf I
DESCRIPTION:\n\n\n\n\n\n\n\n\n \n\n\n\n\n\n\n\n\n\n \n\n \n\n\n\n\n\n\n\n\n\n\n\n \n \n\n
URL:https://www.tcbw23ahlen.de/?tribe_events=kl-herren-ii-tus-bad-sassendorf-i
LOCATION:Am Stadtwald 7\, Ahlen\, Nordrhein-Westfalen\, 59227\, Deutschland
CATEGORIES:Mannschaftsspiel
END:VEVENT
END:VCALENDAR