BEGIN:VCALENDAR
VERSION:2.0
PRODID:-//TC BW 23 Ahlen - ECPv4.6.4//NONSGML v1.0//EN
CALSCALE:GREGORIAN
METHOD:PUBLISH
X-WR-CALNAME:TC BW 23 Ahlen
X-ORIGINAL-URL:https://www.tcbw23ahlen.de
X-WR-CALDESC:Events for TC BW 23 Ahlen
BEGIN:VEVENT
DTSTART;TZID=Europe/Berlin:20200911T160000
DTEND;TZID=Europe/Berlin:20200911T200000
DTSTAMP:20260422T064813
CREATED:20200726T150223Z
LAST-MODIFIED:20200726T150223Z
UID:3824-1599840000-1599854400@www.tcbw23ahlen.de
SUMMARY:KL: Hammer SC 08 - 2. Juniorinnen U 15
DESCRIPTION:\n\n\n\n\n\n\n\n\n \n\n\n\n\n\n\n\n\n\n \n\n \n\n\n\n\n\n\n\n\n\n\n\n \n \n\n
URL:https://www.tcbw23ahlen.de/?tribe_events=kl-hammer-sc-08-2-juniorinnen-u-15
CATEGORIES:Mannschaftsspiel
END:VEVENT
END:VCALENDAR