BEGIN:VCALENDAR
VERSION:2.0
PRODID:-//TC BW 23 Ahlen - ECPv4.6.4//NONSGML v1.0//EN
CALSCALE:GREGORIAN
METHOD:PUBLISH
X-WR-CALNAME:TC BW 23 Ahlen
X-ORIGINAL-URL:https://www.tcbw23ahlen.de
X-WR-CALDESC:Events for TC BW 23 Ahlen
BEGIN:VEVENT
DTSTART;TZID=Europe/Berlin:20190908T100000
DTEND;TZID=Europe/Berlin:20190908T150000
DTSTAMP:20260421T192352
CREATED:20190828T155202Z
LAST-MODIFIED:20190828T155202Z
UID:3163-1567936800-1567954800@www.tcbw23ahlen.de
SUMMARY:KL: DJK BW Werl-Büderich - Damen 40 II
DESCRIPTION:\n\n\n\n\n\n\n\n\n \n\n\n\n\n\n\n\n\n\n \n\n \n\n\n\n\n\n\n\n\n\n\n\n \n \n\n
URL:https://www.tcbw23ahlen.de/?tribe_events=kl-djk-bw-werl-buederich-damen-40-ii
CATEGORIES:Mannschaftsspiel
END:VEVENT
END:VCALENDAR