BEGIN:VCALENDAR
VERSION:2.0
PRODID:-//TC BW 23 Ahlen - ECPv4.6.4//NONSGML v1.0//EN
CALSCALE:GREGORIAN
METHOD:PUBLISH
X-WR-CALNAME:TC BW 23 Ahlen
X-ORIGINAL-URL:https://www.tcbw23ahlen.de
X-WR-CALDESC:Events for TC BW 23 Ahlen
BEGIN:VEVENT
DTSTART;TZID=Europe/Berlin:20190727T130000
DTEND;TZID=Europe/Berlin:20190727T170000
DTSTAMP:20260422T000753
CREATED:20190828T145823Z
LAST-MODIFIED:20190828T153543Z
UID:3087-1564232400-1564246800@www.tcbw23ahlen.de
SUMMARY:KL: DJK 26 Heessen I - Herren 60 I
DESCRIPTION:\n\n\n\n\n\n\n\n\n \n\n\n\n\n\n\n\n\n\n \n\n \n\n\n\n\n\n\n\n\n\n\n\n \n \n\n
URL:https://www.tcbw23ahlen.de/?tribe_events=kl-djk-26-heessen-ue60m
CATEGORIES:Mannschaftsspiel
END:VEVENT
END:VCALENDAR