BEGIN:VCALENDAR
VERSION:2.0
PRODID:-//TC BW 23 Ahlen - ECPv4.6.4//NONSGML v1.0//EN
CALSCALE:GREGORIAN
METHOD:PUBLISH
X-WR-CALNAME:TC BW 23 Ahlen
X-ORIGINAL-URL:https://www.tcbw23ahlen.de
X-WR-CALDESC:Events for TC BW 23 Ahlen
BEGIN:VEVENT
DTSTART;TZID=Europe/Berlin:20191208T130000
DTEND;TZID=Europe/Berlin:20191208T170000
DTSTAMP:20260421T180411
CREATED:20191029T184608Z
LAST-MODIFIED:20191029T184608Z
UID:3389-1575810000-1575824400@www.tcbw23ahlen.de
SUMMARY:KK1: TC Bergkamne-Weddinghofen 2 - Herren 40
DESCRIPTION:\n\n\n\n\n\n\n\n\n \n\n\n\n\n\n\n\n\n\n \n\n \n\n\n\n\n\n\n\n\n\n\n\n \n \n\n
URL:https://www.tcbw23ahlen.de/?tribe_events=kk1-tc-bergkamne-weddinghofen-2-herren-40
CATEGORIES:Mannschaftsspiel
END:VEVENT
END:VCALENDAR