BEGIN:VCALENDAR
VERSION:2.0
PRODID:-//TC BW 23 Ahlen - ECPv4.6.4//NONSGML v1.0//EN
CALSCALE:GREGORIAN
METHOD:PUBLISH
X-WR-CALNAME:TC BW 23 Ahlen
X-ORIGINAL-URL:https://www.tcbw23ahlen.de
X-WR-CALDESC:Events for TC BW 23 Ahlen
BEGIN:VEVENT
DTSTART;TZID=Europe/Berlin:20190901T100000
DTEND;TZID=Europe/Berlin:20190901T140000
DTSTAMP:20260421T223647
CREATED:20190828T154034Z
LAST-MODIFIED:20190828T154034Z
UID:3139-1567332000-1567346400@www.tcbw23ahlen.de
SUMMARY:KK: TuS Jahn Dellwig TA II - Damen 30 I
DESCRIPTION:\n\n\n\n\n\n\n\n\n \n\n\n\n\n\n\n\n\n\n \n\n \n\n\n\n\n\n\n\n\n\n\n\n \n \n\n
URL:https://www.tcbw23ahlen.de/?tribe_events=kk-tus-jahn-dellwig-ta-ii-damen-30-i
CATEGORIES:Mannschaftsspiel
END:VEVENT
END:VCALENDAR