BEGIN:VCALENDAR
VERSION:2.0
PRODID:-//TC BW 23 Ahlen - ECPv4.6.4//NONSGML v1.0//EN
CALSCALE:GREGORIAN
METHOD:PUBLISH
X-WR-CALNAME:TC BW 23 Ahlen
X-ORIGINAL-URL:https://www.tcbw23ahlen.de
X-WR-CALDESC:Events for TC BW 23 Ahlen
BEGIN:VEVENT
DTSTART;VALUE=DATE:20190820
DTEND;VALUE=DATE:20190825
DTSTAMP:20260421T222604
CREATED:20190828T155732Z
LAST-MODIFIED:20190828T155732Z
UID:3175-1566259200-1566691199@www.tcbw23ahlen.de
SUMMARY:Jugend-Tenniscamp 2019
DESCRIPTION:\n\n\n\n\n\n\n\n\n \n\n\n\n\n\n\n\n\n\n \n\n \n\n\n\n\n\n\n\n\n\n\n\n\n\n\n\n\n\n\n\n \n\n\n \n \n\n
URL:https://www.tcbw23ahlen.de/?tribe_events=jugend-tenniscamp-2019
LOCATION:Am Stadtwald 7\, Ahlen\, Nordrhein-Westfalen\, 59227\, Deutschland
CATEGORIES:Jugend,Vereinstermin
END:VEVENT
END:VCALENDAR