BEGIN:VCALENDAR
VERSION:2.0
PRODID:-//TC BW 23 Ahlen - ECPv4.6.4//NONSGML v1.0//EN
CALSCALE:GREGORIAN
METHOD:PUBLISH
X-WR-CALNAME:TC BW 23 Ahlen
X-ORIGINAL-URL:https://www.tcbw23ahlen.de
X-WR-CALDESC:Events for TC BW 23 Ahlen
BEGIN:VEVENT
DTSTART;TZID=Europe/Berlin:20200131T193000
DTEND;TZID=Europe/Berlin:20200131T233000
DTSTAMP:20260421T173524
CREATED:20200118T140952Z
LAST-MODIFIED:20200118T140952Z
UID:3447-1580499000-1580513400@www.tcbw23ahlen.de
SUMMARY:Doppelkopfturnier 2020
DESCRIPTION:\n\n\n\n\n\n\n\n\n \n\n\n\n\n\n\n\n\n\n \n\n \n\n\n\n\n\n\n\n\n\n\n\nAm Freitag\, dem 31. Januar 2020\, findet um 19:30 Uhr das traditionelle Doppelkopfturnier im Clubheim des Tennisclubs Blau-Weiss Ahlen\, Am Stadtwald 7\, in Ahlen statt. \nEs winken wieder attraktive Preise neben dem Wanderpokal für den Sieger. \nDas Startgeld beträgt Euro 5\,– pro Person. \nFür reichlich Getränke und Essen (auf Wunsch auch gerne schon als „Warm-Up“ vor dem Turnier ab 18 Uhr) ist gesorgt. \nDa auch wie in den letzten Jahren die Teilnehmerzahl aufgrund der Räumlichkeiten beschränkt ist\, wird um schnelle und reichliche Anmeldung gebeten. \nOrganisator:\nMichael Schürmann\nMail: micschuerm@aol.com\nMobil: 0174/6388816 \n\n \n \n\n
URL:https://www.tcbw23ahlen.de/?tribe_events=doppelkopfturnier-2020
LOCATION:Am Stadtwald 7\, Ahlen\, Nordrhein-Westfalen\, 59227\, Deutschland
CATEGORIES:Erwachsene,Fest für alle ab 16 Jahren,Jugend
END:VEVENT
END:VCALENDAR