BEGIN:VCALENDAR
VERSION:2.0
PRODID:-//TC BW 23 Ahlen - ECPv4.6.4//NONSGML v1.0//EN
CALSCALE:GREGORIAN
METHOD:PUBLISH
X-WR-CALNAME:TC BW 23 Ahlen
X-ORIGINAL-URL:https://www.tcbw23ahlen.de
X-WR-CALDESC:Events for TC BW 23 Ahlen
BEGIN:VEVENT
DTSTART;TZID=Europe/Berlin:20200815T140000
DTEND;TZID=Europe/Berlin:20200815T233000
DTSTAMP:20260421T204959
CREATED:20200708T155137Z
LAST-MODIFIED:20200731T123249Z
UID:3734-1597500000-1597534200@www.tcbw23ahlen.de
SUMMARY:Doppel-Turnier
DESCRIPTION:\n\n\n\n\n\n\n\n\n \n\n\n\n\n\n\n\n\n\n \n\n \n\n\n\n\n\n\n\n\n\n\n\nEs wird ein Doppel-Turnier als Match-Tiebreakturnier ausgetragen.\nHier sind vor allem unsere neuen Mitgleider eingaladen\, mitzumachen.\nIm Anschluss an das Turnier erfolgt ein gemütliches Beisammensein. \n\n \n \n\n
URL:https://www.tcbw23ahlen.de/?tribe_events=doppel-mixed-spassturnier
CATEGORIES:Erwachsene,Vereinstermin
END:VEVENT
END:VCALENDAR