BEGIN:VCALENDAR
VERSION:2.0
PRODID:-//TC BW 23 Ahlen - ECPv4.6.4//NONSGML v1.0//EN
CALSCALE:GREGORIAN
METHOD:PUBLISH
X-WR-CALNAME:TC BW 23 Ahlen
X-ORIGINAL-URL:https://www.tcbw23ahlen.de
X-WR-CALDESC:Events for TC BW 23 Ahlen
BEGIN:VEVENT
DTSTART;TZID=Europe/Berlin:20190830T160000
DTEND;TZID=Europe/Berlin:20190830T200000
DTSTAMP:20260421T222657
CREATED:20190828T150848Z
LAST-MODIFIED:20190828T153328Z
UID:3105-1567180800-1567195200@www.tcbw23ahlen.de
SUMMARY:BK: U15w I - ATC I
DESCRIPTION:\n\n\n\n\n\n\n\n\n \n\n\n\n\n\n\n\n\n\n \n\n \n\n\n\n\n\n\n\n\n\n\n\n \n \n\n
URL:https://www.tcbw23ahlen.de/?tribe_events=bk-u15w-atc-i
LOCATION:Am Stadtwald 7\, Ahlen\, Nordrhein-Westfalen\, 59227\, Deutschland
CATEGORIES:Mannschaftsspiel
END:VEVENT
END:VCALENDAR