BEGIN:VCALENDAR
VERSION:2.0
PRODID:-//TC BW 23 Ahlen - ECPv4.6.4//NONSGML v1.0//EN
CALSCALE:GREGORIAN
METHOD:PUBLISH
X-WR-CALNAME:TC BW 23 Ahlen
X-ORIGINAL-URL:https://www.tcbw23ahlen.de
X-WR-CALDESC:Events for TC BW 23 Ahlen
BEGIN:VEVENT
DTSTART;TZID=Europe/Berlin:20200814T160000
DTEND;TZID=Europe/Berlin:20200814T200000
DTSTAMP:20260422T000754
CREATED:20200726T141253Z
LAST-MODIFIED:20200726T141426Z
UID:3769-1597420800-1597435200@www.tcbw23ahlen.de
SUMMARY:BK: ATC 1 - 1. Juniorinnen U 15
DESCRIPTION:\n\n\n\n\n\n\n\n\n \n\n\n\n\n\n\n\n\n\n \n\n \n\n\n\n\n\n\n\n\n\n\n\n \n \n\n
URL:https://www.tcbw23ahlen.de/?tribe_events=bk-atc-1-1-juniorinnen-u-15
CATEGORIES:Mannschaftsspiel
END:VEVENT
END:VCALENDAR