BEGIN:VCALENDAR
VERSION:2.0
PRODID:-//TC BW 23 Ahlen - ECPv4.6.4//NONSGML v1.0//EN
CALSCALE:GREGORIAN
METHOD:PUBLISH
X-WR-CALNAME:TC BW 23 Ahlen
X-ORIGINAL-URL:https://www.tcbw23ahlen.de
X-WR-CALDESC:Events for TC BW 23 Ahlen
BEGIN:VEVENT
DTSTART;TZID=Europe/Berlin:20190829T180000
DTEND;TZID=Europe/Berlin:20190829T180000
DTSTAMP:20260421T192402
CREATED:20190828T161302Z
LAST-MODIFIED:20190828T162236Z
UID:3186-1567101600-1567101600@www.tcbw23ahlen.de
SUMMARY:Anmeldeschluss Ahlener Jugend-Stadtmeisterschaften U8-U18
DESCRIPTION:\n\n\n\n\n\n\n\n\n \n\n\n\n\n\n\n\n\n\n \n\n \n\n\n\n\n\n\n\n\n\n\n\nOnlinemeldung: \nhttps://mybigpoint.tennis.de/web/guest/turniersuche?tournamentId=407724 \n\n \n \n\n
URL:https://www.tcbw23ahlen.de/?tribe_events=anmeldeschluss-ahlener-jugend-stadtmeisterschaften-u8-u18
CATEGORIES:Jugend
END:VEVENT
END:VCALENDAR