BEGIN:VCALENDAR
VERSION:2.0
PRODID:-//TC BW 23 Ahlen - ECPv4.6.4//NONSGML v1.0//EN
CALSCALE:GREGORIAN
METHOD:PUBLISH
X-WR-CALNAME:TC BW 23 Ahlen
X-ORIGINAL-URL:https://www.tcbw23ahlen.de
X-WR-CALDESC:Events for TC BW 23 Ahlen
BEGIN:VEVENT
DTSTART;VALUE=DATE:20190905
DTEND;VALUE=DATE:20190916
DTSTAMP:20260421T210039
CREATED:20190828T160635Z
LAST-MODIFIED:20190828T162203Z
UID:3180-1567641600-1568591999@www.tcbw23ahlen.de
SUMMARY:Ahlener Jugend-Stadtmeisterschaften U8-U18
DESCRIPTION:\n\n\n\n\n\n\n\n\n \n\n\n\n\n\n\n\n\n\n \n\n \n\n\n\n\n\n\n\n\n\n\n\nMeldeschluss: Donnerstag\, 29.08.19\, 18.00 Uhr \nOnlinemeldung: \nhttps://mybigpoint.tennis.de/web/guest/turniersuche?tournamentId=407724 \n\n \n \n\n
URL:https://www.tcbw23ahlen.de/?tribe_events=ahlener-jugend-stadtmeisterschaften-u8-u18
LOCATION:Sachsenstr.\, Ahlen
CATEGORIES:Jugend
END:VEVENT
END:VCALENDAR