BEGIN:VCALENDAR
VERSION:2.0
PRODID:-//TC BW 23 Ahlen - ECPv4.6.4//NONSGML v1.0//EN
CALSCALE:GREGORIAN
METHOD:PUBLISH
X-WR-CALNAME:TC BW 23 Ahlen
X-ORIGINAL-URL:https://www.tcbw23ahlen.de
X-WR-CALDESC:Events for TC BW 23 Ahlen
BEGIN:VEVENT
DTSTART;TZID=Europe/Berlin:20260425T110000
DTEND;TZID=Europe/Berlin:20260425T180000
DTSTAMP:20260421T090344
CREATED:20260120T093926Z
LAST-MODIFIED:20260120T093926Z
UID:6094-1777114800-1777140000@www.tcbw23ahlen.de
SUMMARY:DST - Anschlagfest
DESCRIPTION:11:00 h  Kids + Jugend \n13:00 h  Erwachsene + ältere Jugend \n
URL:https://www.tcbw23ahlen.de/?tribe_events=dst-anschlagfest
LOCATION:Am Stadtwald 7\, Ahlen\, Nordrhein-Westfalen\, 59227\, Deutschland
CATEGORIES:Erwachsene,Jugend,Vereinstermin
END:VEVENT
BEGIN:VEVENT
DTSTART;VALUE=DATE:20260523
DTEND;VALUE=DATE:20260525
DTSTAMP:20260421T090344
CREATED:20260120T094048Z
LAST-MODIFIED:20260120T094048Z
UID:6096-1779494400-1779667199@www.tcbw23ahlen.de
SUMMARY:Maisel´s Cup - Erlebnis statt Ergebnis
DESCRIPTION:Start: \nSamstag: 13:00 h \nSonntag: 11:00 h \n
URL:https://www.tcbw23ahlen.de/?tribe_events=maisels-cup-erlebnis-statt-ergebnis-2
LOCATION:Am Stadtwald 7\, Ahlen\, Nordrhein-Westfalen\, 59227\, Deutschland
CATEGORIES:Erwachsene,Fest für alle ab 16 Jahren,Vereinstermin
END:VEVENT
BEGIN:VEVENT
DTSTART;TZID=Europe/Berlin:20260816T090000
DTEND;TZID=Europe/Berlin:20260816T190000
DTSTAMP:20260421T090344
CREATED:20260120T094225Z
LAST-MODIFIED:20260120T094225Z
UID:6100-1786870800-1786906800@www.tcbw23ahlen.de
SUMMARY:2. BW Ahlen Cup LK-Turnier der Tennisschule TotalTennis
DESCRIPTION:
URL:https://www.tcbw23ahlen.de/?tribe_events=2-bw-ahlen-cup-lk-turnier-der-tennisschule-totaltennis
LOCATION:Nordrhein-Westfalen
CATEGORIES:Erwachsene
END:VEVENT
BEGIN:VEVENT
DTSTART;VALUE=DATE:20260825
DTEND;VALUE=DATE:20260829
DTSTAMP:20260421T090344
CREATED:20260120T094130Z
LAST-MODIFIED:20260120T094130Z
UID:6098-1787616000-1787961599@www.tcbw23ahlen.de
SUMMARY:Tenniscamp 2026
DESCRIPTION:
URL:https://www.tcbw23ahlen.de/?tribe_events=tenniscamp-2026
LOCATION:Am Stadtwald 7\, Ahlen\, Nordrhein-Westfalen\, 59227\, Deutschland
CATEGORIES:Jugend,Vereinstermin
END:VEVENT
BEGIN:VEVENT
DTSTART;TZID=Europe/Berlin:20261128T180000
DTEND;TZID=Europe/Berlin:20261128T230000
DTSTAMP:20260421T090344
CREATED:20260120T094308Z
LAST-MODIFIED:20260120T094308Z
UID:6102-1795888800-1795906800@www.tcbw23ahlen.de
SUMMARY:Winterzauber
DESCRIPTION:
URL:https://www.tcbw23ahlen.de/?tribe_events=winterzauber-2
LOCATION:Am Stadtwald 7\, Ahlen\, Nordrhein-Westfalen\, 59227\, Deutschland
CATEGORIES:Erwachsene,Fest für alle ab 16 Jahren,Jugend
END:VEVENT
END:VCALENDAR