BEGIN:VCALENDAR
VERSION:2.0
PRODID:-//TC BW 23 Ahlen - ECPv4.6.4//NONSGML v1.0//EN
CALSCALE:GREGORIAN
METHOD:PUBLISH
X-WR-CALNAME:TC BW 23 Ahlen
X-ORIGINAL-URL:http://www.tcbw23ahlen.de
X-WR-CALDESC:Events for TC BW 23 Ahlen
BEGIN:VEVENT
DTSTART;VALUE=DATE:20240527
DTEND;VALUE=DATE:20240603
DTSTAMP:20260422T185252
CREATED:20240215T164403Z
LAST-MODIFIED:20240215T164403Z
UID:5720-1716768000-1717372799@www.tcbw23ahlen.de
SUMMARY:Westfälische Meisterschaften Aktive und Senioren
DESCRIPTION:\n\n\n\n\n\n\n\n\n \n\n\n\n\n\n\n\n\n\n \n\n \n\n\n\n\n\n\n\n\n\n\n\n \n \n\n
URL:http://www.tcbw23ahlen.de/?tribe_events=westfaelische-meisterschaften-aktive-und-senioren
END:VEVENT
END:VCALENDAR