BEGIN:VCALENDAR
VERSION:2.0
PRODID:-//TC BW 23 Ahlen - ECPv4.6.4//NONSGML v1.0//EN
CALSCALE:GREGORIAN
METHOD:PUBLISH
X-WR-CALNAME:TC BW 23 Ahlen
X-ORIGINAL-URL:http://www.tcbw23ahlen.de
X-WR-CALDESC:Events for TC BW 23 Ahlen
BEGIN:VEVENT
DTSTART;TZID=Europe/Berlin:20220122T120000
DTEND;TZID=Europe/Berlin:20220122T160000
DTSTAMP:20260422T104721
CREATED:20211003T101314Z
LAST-MODIFIED:20211003T101314Z
UID:4342-1642852800-1642867200@www.tcbw23ahlen.de
SUMMARY:VL: TC Schwarz-Weiß Annen - 1. DA 40
DESCRIPTION:\n\n\n\n\n\n\n\n\n \n\n\n\n\n\n\n\n\n\n \n\n \n\n\n\n\n\n\n\n\n\n\n\n \n \n\n
URL:http://www.tcbw23ahlen.de/?tribe_events=vl-tc-schwarz-weiss-annen-1-da-40
CATEGORIES:Mannschaftsspiel
END:VEVENT
END:VCALENDAR