BEGIN:VCALENDAR
VERSION:2.0
PRODID:-//TC BW 23 Ahlen - ECPv4.6.4//NONSGML v1.0//EN
CALSCALE:GREGORIAN
METHOD:PUBLISH
X-WR-CALNAME:TC BW 23 Ahlen
X-ORIGINAL-URL:http://www.tcbw23ahlen.de
X-WR-CALDESC:Events for TC BW 23 Ahlen
BEGIN:VEVENT
DTSTART;TZID=Europe/Berlin:20230617T130000
DTEND;TZID=Europe/Berlin:20230617T190000
DTSTAMP:20260421T214541
CREATED:20230415T172903Z
LAST-MODIFIED:20230415T172903Z
UID:5077-1687006800-1687028400@www.tcbw23ahlen.de
SUMMARY:Vft SW Marl - 1. HE50
DESCRIPTION:\n\n\n\n\n\n\n\n\n \n\n\n\n\n\n\n\n\n\n \n\n \n\n\n\n\n\n\n\n\n\n\n\n \n \n\n
URL:http://www.tcbw23ahlen.de/?tribe_events=vft-sw-marl-1-he50
CATEGORIES:Mannschaftsspiel
END:VEVENT
END:VCALENDAR