BEGIN:VCALENDAR
VERSION:2.0
PRODID:-//TC BW 23 Ahlen - ECPv4.6.4//NONSGML v1.0//EN
CALSCALE:GREGORIAN
METHOD:PUBLISH
X-WR-CALNAME:TC BW 23 Ahlen
X-ORIGINAL-URL:http://www.tcbw23ahlen.de
X-WR-CALDESC:Events for TC BW 23 Ahlen
BEGIN:VEVENT
DTSTART;TZID=Europe/Berlin:20230108T100000
DTEND;TZID=Europe/Berlin:20230108T160000
DTSTAMP:20260422T091112
CREATED:20221230T204807Z
LAST-MODIFIED:20221230T204807Z
UID:4893-1673172000-1673193600@www.tcbw23ahlen.de
SUMMARY:TV RW Bönen - 1. HE
DESCRIPTION:\n\n\n\n\n\n\n\n\n \n\n\n\n\n\n\n\n\n\n \n\n \n\n\n\n\n\n\n\n\n\n\n\n \n \n\n
URL:http://www.tcbw23ahlen.de/?tribe_events=tv-rw-boenen-1-he
CATEGORIES:Mannschaftsspiel
END:VEVENT
END:VCALENDAR