BEGIN:VCALENDAR
VERSION:2.0
PRODID:-//TC BW 23 Ahlen - ECPv4.6.4//NONSGML v1.0//EN
CALSCALE:GREGORIAN
METHOD:PUBLISH
X-WR-CALNAME:TC BW 23 Ahlen
X-ORIGINAL-URL:http://www.tcbw23ahlen.de
X-WR-CALDESC:Events for TC BW 23 Ahlen
BEGIN:VEVENT
DTSTART;TZID=Europe/Berlin:20230903T100000
DTEND;TZID=Europe/Berlin:20230903T160000
DTSTAMP:20260422T041011
CREATED:20230415T175541Z
LAST-MODIFIED:20230415T175541Z
UID:5121-1693735200-1693756800@www.tcbw23ahlen.de
SUMMARY:TuS Westfalia Hombruch - 1. DA
DESCRIPTION:\n\n\n\n\n\n\n\n\n \n\n\n\n\n\n\n\n\n\n \n\n \n\n\n\n\n\n\n\n\n\n\n\n \n \n\n
URL:http://www.tcbw23ahlen.de/?tribe_events=tus-westfalia-hombruch-1-da
CATEGORIES:Mannschaftsspiel
END:VEVENT
END:VCALENDAR