BEGIN:VCALENDAR
VERSION:2.0
PRODID:-//TC BW 23 Ahlen - ECPv4.6.4//NONSGML v1.0//EN
CALSCALE:GREGORIAN
METHOD:PUBLISH
X-WR-CALNAME:TC BW 23 Ahlen
X-ORIGINAL-URL:http://www.tcbw23ahlen.de
X-WR-CALDESC:Events for TC BW 23 Ahlen
BEGIN:VEVENT
DTSTART;TZID=Europe/Berlin:20230903T100000
DTEND;TZID=Europe/Berlin:20230903T160000
DTSTAMP:20260422T023819
CREATED:20230415T180028Z
LAST-MODIFIED:20230415T180028Z
UID:5125-1693735200-1693756800@www.tcbw23ahlen.de
SUMMARY:TuS 59 Hamm - 1. DA30
DESCRIPTION:\n\n\n\n\n\n\n\n\n \n\n\n\n\n\n\n\n\n\n \n\n \n\n\n\n\n\n\n\n\n\n\n\n \n \n\n
URL:http://www.tcbw23ahlen.de/?tribe_events=tus-59-hamm-1-da30
LOCATION:Am Stadtwald 7\, Ahlen\, Nordrhein-Westfalen\, 59227\, Deutschland
CATEGORIES:Mannschaftsspiel
END:VEVENT
END:VCALENDAR