BEGIN:VCALENDAR
VERSION:2.0
PRODID:-//TC BW 23 Ahlen - ECPv4.6.4//NONSGML v1.0//EN
CALSCALE:GREGORIAN
METHOD:PUBLISH
X-WR-CALNAME:TC BW 23 Ahlen
X-ORIGINAL-URL:http://www.tcbw23ahlen.de
X-WR-CALDESC:Events for TC BW 23 Ahlen
BEGIN:VEVENT
DTSTART;TZID=Europe/Berlin:20230121T130000
DTEND;TZID=Europe/Berlin:20230121T190000
DTSTAMP:20260422T121857
CREATED:20221230T204144Z
LAST-MODIFIED:20221230T204144Z
UID:4884-1674306000-1674327600@www.tcbw23ahlen.de
SUMMARY:THC im VfL Bochum - 1. DA40
DESCRIPTION:\n\n\n\n\n\n\n\n\n \n\n\n\n\n\n\n\n\n\n \n\n \n\n\n\n\n\n\n\n\n\n\n\n \n \n\n
URL:http://www.tcbw23ahlen.de/?tribe_events=thc-im-vfl-bochum-1-da40
CATEGORIES:Mannschaftsspiel
END:VEVENT
END:VCALENDAR