BEGIN:VCALENDAR
VERSION:2.0
PRODID:-//TC BW 23 Ahlen - ECPv4.6.4//NONSGML v1.0//EN
CALSCALE:GREGORIAN
METHOD:PUBLISH
X-WR-CALNAME:TC BW 23 Ahlen
X-ORIGINAL-URL:http://www.tcbw23ahlen.de
X-WR-CALDESC:Events for TC BW 23 Ahlen
BEGIN:VEVENT
DTSTART;TZID=Europe/Berlin:20240210T170000
DTEND;TZID=Europe/Berlin:20240210T230000
DTSTAMP:20260422T201251
CREATED:20231015T074206Z
LAST-MODIFIED:20231015T074206Z
UID:5640-1707584400-1707606000@www.tcbw23ahlen.de
SUMMARY:TC RW Hardenstein - 1. DA 40
DESCRIPTION:\n\n\n\n\n\n\n\n\n \n\n\n\n\n\n\n\n\n\n \n\n \n\n\n\n\n\n\n\n\n\n\n \n\n \n \n\n
URL:http://www.tcbw23ahlen.de/?tribe_events=tc-rw-hardenstein-1-da-40
CATEGORIES:Mannschaftsspiel
END:VEVENT
END:VCALENDAR