BEGIN:VCALENDAR
VERSION:2.0
PRODID:-//TC BW 23 Ahlen - ECPv4.6.4//NONSGML v1.0//EN
CALSCALE:GREGORIAN
METHOD:PUBLISH
X-WR-CALNAME:TC BW 23 Ahlen
X-ORIGINAL-URL:http://www.tcbw23ahlen.de
X-WR-CALDESC:Events for TC BW 23 Ahlen
BEGIN:VEVENT
DTSTART;TZID=Europe/Berlin:20240114T100000
DTEND;TZID=Europe/Berlin:20240114T180000
DTSTAMP:20260422T104556
CREATED:20231015T073557Z
LAST-MODIFIED:20231015T073557Z
UID:5626-1705226400-1705255200@www.tcbw23ahlen.de
SUMMARY:TC RG Horst - 1. HE
DESCRIPTION:\n\n\n\n\n\n\n\n\n \n\n\n\n\n\n\n\n\n\n \n\n \n\n\n\n\n\n\n\n\n\n\n \n\n \n \n\n
URL:http://www.tcbw23ahlen.de/?tribe_events=tc-rg-horst-1-he
CATEGORIES:Mannschaftsspiel
END:VEVENT
END:VCALENDAR