BEGIN:VCALENDAR
VERSION:2.0
PRODID:-//TC BW 23 Ahlen - ECPv4.6.4//NONSGML v1.0//EN
CALSCALE:GREGORIAN
METHOD:PUBLISH
X-WR-CALNAME:TC BW 23 Ahlen
X-ORIGINAL-URL:http://www.tcbw23ahlen.de
X-WR-CALDESC:Events for TC BW 23 Ahlen
BEGIN:VEVENT
DTSTART;TZID=Europe/Berlin:20230819T090000
DTEND;TZID=Europe/Berlin:20230819T140000
DTSTAMP:20260422T011230
CREATED:20230415T173824Z
LAST-MODIFIED:20230415T173824Z
UID:5094-1692435600-1692453600@www.tcbw23ahlen.de
SUMMARY:TC Oelde 1890 - 1. U12m
DESCRIPTION:\n\n\n\n\n\n\n\n\n \n\n\n\n\n\n\n\n\n\n \n\n \n\n\n\n\n\n\n\n\n\n\n\n \n \n\n
URL:http://www.tcbw23ahlen.de/?tribe_events=tc-oelde-1890-1-u12m
CATEGORIES:Mannschaftsspiel
END:VEVENT
END:VCALENDAR