BEGIN:VCALENDAR
VERSION:2.0
PRODID:-//TC BW 23 Ahlen - ECPv4.6.4//NONSGML v1.0//EN
CALSCALE:GREGORIAN
METHOD:PUBLISH
X-WR-CALNAME:TC BW 23 Ahlen
X-ORIGINAL-URL:http://www.tcbw23ahlen.de
X-WR-CALDESC:Events for TC BW 23 Ahlen
BEGIN:VEVENT
DTSTART;TZID=Europe/Berlin:20230107T180000
DTEND;TZID=Europe/Berlin:20230107T233000
DTSTAMP:20260422T040833
CREATED:20221230T205055Z
LAST-MODIFIED:20221230T205055Z
UID:4899-1673114400-1673134200@www.tcbw23ahlen.de
SUMMARY:TC Mengede - 1. HE40
DESCRIPTION:\n\n\n\n\n\n\n\n\n \n\n\n\n\n\n\n\n\n\n \n\n \n\n\n\n\n\n\n\n\n\n\n\n \n \n\n
URL:http://www.tcbw23ahlen.de/?tribe_events=tc-mengede-1-he40
CATEGORIES:Mannschaftsspiel
END:VEVENT
END:VCALENDAR