BEGIN:VCALENDAR
VERSION:2.0
PRODID:-//TC BW 23 Ahlen - ECPv4.6.4//NONSGML v1.0//EN
CALSCALE:GREGORIAN
METHOD:PUBLISH
X-WR-CALNAME:TC BW 23 Ahlen
X-ORIGINAL-URL:http://www.tcbw23ahlen.de
X-WR-CALDESC:Events for TC BW 23 Ahlen
BEGIN:VEVENT
DTSTART;TZID=Europe/Berlin:20230909T090000
DTEND;TZID=Europe/Berlin:20230909T130000
DTSTAMP:20260421T232656
CREATED:20230415T173436Z
LAST-MODIFIED:20230519T105915Z
UID:5087-1694250000-1694264400@www.tcbw23ahlen.de
SUMMARY:TC Herringen - 1. U12w
DESCRIPTION:\n\n\n\n\n\n\n\n\n \n\n\n\n\n\n\n\n\n\n \n\n \n\n\n\n\n\n\n\n\n\n\n\nursprünglich 12.08.23 \n\n \n \n\n
URL:http://www.tcbw23ahlen.de/?tribe_events=tc-herringen-1-u12w
CATEGORIES:Mannschaftsspiel
END:VEVENT
END:VCALENDAR