BEGIN:VCALENDAR
VERSION:2.0
PRODID:-//TC BW 23 Ahlen - ECPv4.6.4//NONSGML v1.0//EN
CALSCALE:GREGORIAN
METHOD:PUBLISH
X-WR-CALNAME:TC BW 23 Ahlen
X-ORIGINAL-URL:http://www.tcbw23ahlen.de
X-WR-CALDESC:Events for TC BW 23 Ahlen
BEGIN:VEVENT
DTSTART;TZID=Europe/Berlin:20240107T110000
DTEND;TZID=Europe/Berlin:20240107T180000
DTSTAMP:20260422T090943
CREATED:20231015T073214Z
LAST-MODIFIED:20231120T095944Z
UID:5618-1704625200-1704650400@www.tcbw23ahlen.de
SUMMARY:TC GW Pelkum - 1. DA 40
DESCRIPTION:\n\n\n\n\n\n\n\n\n \n\n\n\n\n\n\n\n\n\n \n\n \n\n\n\n\n\n\n\n\n\n\n \n\n \n \n\n
URL:http://www.tcbw23ahlen.de/?tribe_events=tc-gw-pelkum-1-da-40
CATEGORIES:Mannschaftsspiel
END:VEVENT
END:VCALENDAR