BEGIN:VCALENDAR
VERSION:2.0
PRODID:-//TC BW 23 Ahlen - ECPv4.6.4//NONSGML v1.0//EN
CALSCALE:GREGORIAN
METHOD:PUBLISH
X-WR-CALNAME:TC BW 23 Ahlen
X-ORIGINAL-URL:http://www.tcbw23ahlen.de
X-WR-CALDESC:Events for TC BW 23 Ahlen
BEGIN:VEVENT
DTSTART;TZID=Europe/Berlin:20231209T120000
DTEND;TZID=Europe/Berlin:20231209T200000
DTSTAMP:20260421T232702
CREATED:20231015T072733Z
LAST-MODIFIED:20231015T072733Z
UID:5608-1702123200-1702152000@www.tcbw23ahlen.de
SUMMARY:TC Bockum-Hövel - 1. DA 40
DESCRIPTION:\n\n\n\n\n\n\n\n\n \n\n\n\n\n\n\n\n\n\n \n\n \n\n\n\n\n\n\n\n\n\n\n \n\n \n \n\n
URL:http://www.tcbw23ahlen.de/?tribe_events=tc-bockum-hoevel-1-da-40
CATEGORIES:Mannschaftsspiel
END:VEVENT
END:VCALENDAR