BEGIN:VCALENDAR
VERSION:2.0
PRODID:-//TC BW 23 Ahlen - ECPv4.6.4//NONSGML v1.0//EN
CALSCALE:GREGORIAN
METHOD:PUBLISH
X-WR-CALNAME:TC BW 23 Ahlen
X-ORIGINAL-URL:http://www.tcbw23ahlen.de
X-WR-CALDESC:Events for TC BW 23 Ahlen
BEGIN:VEVENT
DTSTART;TZID=Europe/Berlin:20230902T130000
DTEND;TZID=Europe/Berlin:20230902T180000
DTSTAMP:20260422T073700
CREATED:20230415T175301Z
LAST-MODIFIED:20230415T175301Z
UID:5116-1693659600-1693677600@www.tcbw23ahlen.de
SUMMARY:TC Berghofen - 1. HE40
DESCRIPTION:\n\n\n\n\n\n\n\n\n \n\n\n\n\n\n\n\n\n\n \n\n \n\n\n\n\n\n\n\n\n\n\n\n \n \n\n
URL:http://www.tcbw23ahlen.de/?tribe_events=tc-berghofen-1-he40
CATEGORIES:Mannschaftsspiel
END:VEVENT
END:VCALENDAR