BEGIN:VCALENDAR
VERSION:2.0
PRODID:-//TC BW 23 Ahlen - ECPv4.6.4//NONSGML v1.0//EN
CALSCALE:GREGORIAN
METHOD:PUBLISH
X-WR-CALNAME:TC BW 23 Ahlen
X-ORIGINAL-URL:http://www.tcbw23ahlen.de
X-WR-CALDESC:Events for TC BW 23 Ahlen
BEGIN:VEVENT
DTSTART;TZID=Europe/Berlin:20230218T170000
DTEND;TZID=Europe/Berlin:20230218T230000
DTSTAMP:20260422T134233
CREATED:20221230T203655Z
LAST-MODIFIED:20221230T203655Z
UID:4872-1676739600-1676761200@www.tcbw23ahlen.de
SUMMARY:SV RW Werl-Westönnen - 2. HE
DESCRIPTION:\n\n\n\n\n\n\n\n\n \n\n\n\n\n\n\n\n\n\n \n\n \n\n\n\n\n\n\n\n\n\n\n\n \n \n\n
URL:http://www.tcbw23ahlen.de/?tribe_events=sv-rw-werl-westoennen-2-he
CATEGORIES:Mannschaftsspiel
END:VEVENT
END:VCALENDAR