BEGIN:VCALENDAR
VERSION:2.0
PRODID:-//TC BW 23 Ahlen - ECPv4.6.4//NONSGML v1.0//EN
CALSCALE:GREGORIAN
METHOD:PUBLISH
X-WR-CALNAME:TC BW 23 Ahlen
X-ORIGINAL-URL:http://www.tcbw23ahlen.de
X-WR-CALDESC:Events for TC BW 23 Ahlen
BEGIN:VEVENT
DTSTART;TZID=Europe/Berlin:20230811T180000
DTEND;TZID=Europe/Berlin:20230811T200000
DTSTAMP:20260421T214926
CREATED:20230415T165627Z
LAST-MODIFIED:20230415T165627Z
UID:5005-1691776800-1691784000@www.tcbw23ahlen.de
SUMMARY:Sportlerehrentag der Stadt Ahlen
DESCRIPTION:\n\n\n\n\n\n\n\n\n \n\n\n\n\n\n\n\n\n\n \n\n \n\n\n\n\n\n\n\n\n\n\n\n\n\n\n\n\n\n\n\n\n\n \n\nDer diesjährige Sportlerehrentag der Stadt Ahlen für die Erwachsenen findet auf der Tennisanlage des TC BW Ahlen 23 statt. \n\n \n \n\n
URL:http://www.tcbw23ahlen.de/?tribe_events=sportlerehrentag-der-stadt-ahlen
LOCATION:Am Stadtwald 7\, Ahlen\, Nordrhein-Westfalen\, 59227\, Deutschland
CATEGORIES:Erwachsene
ATTACH;FMTTYPE=image/jpeg:http://www.tcbw23ahlen.de/wp-content/uploads/2023/04/ahlen_de.jpg
END:VEVENT
END:VCALENDAR